BEGIN:VCALENDAR
VERSION:2.0
PRODID:-//ExportFocus Africa - ECPv6.15.20//NONSGML v1.0//EN
CALSCALE:GREGORIAN
METHOD:PUBLISH
X-WR-CALNAME:ExportFocus Africa
X-ORIGINAL-URL:https://exportfocusafrica.com
X-WR-CALDESC:Events for ExportFocus Africa
REFRESH-INTERVAL;VALUE=DURATION:PT1H
X-Robots-Tag:noindex
X-PUBLISHED-TTL:PT1H
BEGIN:VTIMEZONE
TZID:Africa/Johannesburg
BEGIN:STANDARD
TZOFFSETFROM:+0200
TZOFFSETTO:+0200
TZNAME:SAST
DTSTART:20250101T000000
END:STANDARD
END:VTIMEZONE
BEGIN:VEVENT
DTSTART;TZID=Africa/Johannesburg:20260513T080000
DTEND;TZID=Africa/Johannesburg:20260514T170000
DTSTAMP:20260419T191104
CREATED:20251009T133426Z
LAST-MODIFIED:20251009T133426Z
UID:18709-1778659200-1778778000@exportfocusafrica.com
SUMMARY:Africa Automation Indaba
DESCRIPTION:13–14 May 2026 | Cape Town \nAfrica’s automation era is beginning. Will you be part of it? \nIt’s time for Africa to lead the next industrial revolution! \nJoin industry pioneers\, government leaders\, investors\, and innovators at the inaugural Africa Automation Indaba – the continent’s premier event for automation\, process control\, and smart manufacturing. \nOver two transformative days\, discover how technology\, policy\, and investment are reshaping Africa’s industrial landscape. \nHere’s What to Expect \n➡️ Trailblazing keynotes from global and African automation leaders \n➡️ Actionable insights from real-world case studies\n➡️ Honest discussions on policy\, finance\, and infrastructure\n➡️ Future-focused sessions on IIoT\, skills\, and sustainability\n➡️ Unmatched networking with Africa’s automation elite \nAgenda Highlights \n💡Identifying High-Growth Regions for Automation in Africa\n💡How Automation Is Driving GDP and Job Creation\n💡Financing Automation: Where Smart Capital Is Flowing\n💡Developing Africa’s Automation Talent Pipeline\n💡The Green Industry Revolution: Sustainability Meets Automation \nWhy Should You Attend? \nThis isn’t just a conference – it’s a launchpad for ideas\, partnerships\, and growth opportunities that will shape Africa’s automation journey for decades to come. \nWhether you’re an industry leader\, investor\, policymaker\, or technology innovator\, the Africa Automation Indaba 2026 is where the future connects. \nSave the Date \n📅 13–14 May 2026\n📍 Radisson Collection Hotel\, Waterfront\, Cape Town
URL:https://exportfocusafrica.com/event/africa-automation-indaba/
CATEGORIES:Automation,Technology
ATTACH;FMTTYPE=image/webp:https://exportfocusafrica.com/wp-content/uploads/2025/10/OIP-24.webp
END:VEVENT
END:VCALENDAR